BEGIN:VCALENDAR
VERSION:2.0
PRODID:-//Winestate - ECPv6.15.20//NONSGML v1.0//EN
CALSCALE:GREGORIAN
METHOD:PUBLISH
X-WR-CALNAME:Winestate
X-ORIGINAL-URL:https://winestate.com.au
X-WR-CALDESC:Events for Winestate
REFRESH-INTERVAL;VALUE=DURATION:PT1H
X-Robots-Tag:noindex
X-PUBLISHED-TTL:PT1H
BEGIN:VTIMEZONE
TZID:Australia/Adelaide
BEGIN:STANDARD
TZOFFSETFROM:+1030
TZOFFSETTO:+0930
TZNAME:ACST
DTSTART:20190406T163000
END:STANDARD
BEGIN:DAYLIGHT
TZOFFSETFROM:+0930
TZOFFSETTO:+1030
TZNAME:ACDT
DTSTART:20191005T163000
END:DAYLIGHT
BEGIN:STANDARD
TZOFFSETFROM:+1030
TZOFFSETTO:+0930
TZNAME:ACST
DTSTART:20200404T163000
END:STANDARD
BEGIN:DAYLIGHT
TZOFFSETFROM:+0930
TZOFFSETTO:+1030
TZNAME:ACDT
DTSTART:20201003T163000
END:DAYLIGHT
BEGIN:STANDARD
TZOFFSETFROM:+1030
TZOFFSETTO:+0930
TZNAME:ACST
DTSTART:20210403T163000
END:STANDARD
BEGIN:DAYLIGHT
TZOFFSETFROM:+0930
TZOFFSETTO:+1030
TZNAME:ACDT
DTSTART:20211002T163000
END:DAYLIGHT
END:VTIMEZONE
BEGIN:VEVENT
DTSTART;TZID=Australia/Adelaide:20200415T090000
DTEND;TZID=Australia/Adelaide:20200417T170000
DTSTAMP:20260422T124949
CREATED:20191210T050905Z
LAST-MODIFIED:20200319T001022Z
UID:427547-1586941200-1587142800@winestate.com.au
SUMMARY:Wine & Gourmet Japan 2020! - POSTPONED UNTIL FURTHER NOTICE
DESCRIPTION:THIS EVENT HAS BEEN CANCELLED AND POSTPONED UNTIL FURTHER NOTICE\n  \nJoin Winestate and be a part of the International Wine\, Beer\, Spirits\, Gourmet Food and Bar Exhibition & Conference in Tokyo\, Japan – 15th-17th April 2020. \nYour Gateway to Japan with Key Success Factors\nJapan is the 3rd largest economic market after US and China with a unique and sophisticated food culture.\nWe are presenting the one and only professional platform for international wineries\, beer\, spirits and gourmet food\nproducers in the Japanese market. Going into the 11th edition\, the event offers highly customized matching activities\nvia both online and offline (on-site) for exhibitors and buyers. The event combines the traditional trade fair with a\ncomprehensive event-programme\, which includes\, professional seminars\, tasting & matching\, wine pairing sessions\,\nlabel awards\, panel discussions and many more. Become part of this dynamic market! \nwww.wineandgourmetjapan.com \nContact sales@winestate.com.au for further information.
URL:https://winestate.com.au/event/winestate-gourmet-japan-2020/
LOCATION:Tokyo Big Sight West Hall\, 3-11-1 Ariake\, Koto-ku\,\, Tokyo 135-0063 Japan\, Tokyo\, Japan
ATTACH;FMTTYPE=image/jpeg:https://winestate.com.au/wp-content/uploads/2019/12/WineGourmetJapan_EventHeader_Web_2020.jpg
ORGANIZER;CN="Winestate Magazine":MAILTO:administration@winestate.com.au
END:VEVENT
END:VCALENDAR